BEGIN:VCALENDAR
VERSION:2.0
PRODID:-//SchuppenEins - ECPv6.15.20//NONSGML v1.0//EN
CALSCALE:GREGORIAN
METHOD:PUBLISH
X-WR-CALNAME:SchuppenEins
X-ORIGINAL-URL:https://schuppeneins.de
X-WR-CALDESC:Veranstaltungen für SchuppenEins
REFRESH-INTERVAL;VALUE=DURATION:PT1H
X-Robots-Tag:noindex
X-PUBLISHED-TTL:PT1H
BEGIN:VTIMEZONE
TZID:Europe/Berlin
BEGIN:DAYLIGHT
TZOFFSETFROM:+0100
TZOFFSETTO:+0200
TZNAME:CEST
DTSTART:20210328T010000
END:DAYLIGHT
BEGIN:STANDARD
TZOFFSETFROM:+0200
TZOFFSETTO:+0100
TZNAME:CET
DTSTART:20211031T010000
END:STANDARD
BEGIN:DAYLIGHT
TZOFFSETFROM:+0100
TZOFFSETTO:+0200
TZNAME:CEST
DTSTART:20220327T010000
END:DAYLIGHT
BEGIN:STANDARD
TZOFFSETFROM:+0200
TZOFFSETTO:+0100
TZNAME:CET
DTSTART:20221030T010000
END:STANDARD
BEGIN:DAYLIGHT
TZOFFSETFROM:+0100
TZOFFSETTO:+0200
TZNAME:CEST
DTSTART:20230326T010000
END:DAYLIGHT
BEGIN:STANDARD
TZOFFSETFROM:+0200
TZOFFSETTO:+0100
TZNAME:CET
DTSTART:20231029T010000
END:STANDARD
END:VTIMEZONE
BEGIN:VEVENT
DTSTART;TZID=Europe/Berlin:20220508T080000
DTEND;TZID=Europe/Berlin:20220508T180000
DTSTAMP:20260425T183104
CREATED:20220302T125338Z
LAST-MODIFIED:20220302T125429Z
UID:10000019-1651996800-1652032800@schuppeneins.de
SUMMARY:Partnerevent Blue Fox Rallye No. 6
DESCRIPTION:Mittlerweile hat sie einen festen Termin im Kalender der Ammerländer Automobilkultur eingenommen: Jährlich am Muttertag treffen sich Oldtimerfreundinnen und -freunde zur Blue Fox Rallye. Der Start erfolgt traditionell auf dem Kögel-Willms-Platz im Rasteder Ortskern. Quer durch die umliegende Region fahren die antretenden Teams anhand der Anweisungen im Roadbook. Hinzu kommen auf der Route verteilte Geschicklichkeitsprüfungen. \nInfos und Anmeldung: www.oldtimer-rastede.de/blue-fox-rallye.  Bereits eingegangene Anmeldungen behalten ihre Gültigkeit. Meldeschluss ist der 10.04.2022. \nSonntag\, 08.05.2022\n08.00-18.00 Uhr\nRastede \nKontakt:\nOld- & Youngtimer Club Rastede e.V.\nMail kontakt@oldtimer-rastede.de\nwww.oldtimer-rastede.de
URL:https://schuppeneins.de/termine/partnerevent-blue-fox-rallye-no-6/
LOCATION:Schuppen Eins
ATTACH;FMTTYPE=image/jpeg:https://schuppeneins.de/wp-content/uploads/2022/03/IMG_6415.jpeg
END:VEVENT
BEGIN:VEVENT
DTSTART;TZID=Europe/Berlin:20220515T100000
DTEND;TZID=Europe/Berlin:20220515T170000
DTSTAMP:20260425T183104
CREATED:20220216T090830Z
LAST-MODIFIED:20220216T090856Z
UID:10000002-1652608800-1652634000@schuppeneins.de
SUMMARY:3. Classic & Custom Bikes Treffen
DESCRIPTION:Nach der sensationellen Resonanz aus 2019 und 2021 laden wir wieder alle Fans klassischer Motorräder und individueller Zweirad-Umbauten zum 3.Classic & Custom Bikes Treffen ein.  Es wird ein offenes\, markenunabhängiges Treffen für Gleichgesinnte und Freunde des Alten Eisens\, mit Projektvorstellungen und zwanglosen Benzingesprächen . \n  \nAuf dem zentralen Ausstellungsgelände zugelassen sind alles Bikes bis Baujahr 1995. Interessante\, außergewöhnliche Umbauten jüngeren Datums gerne nach Rücksprache im Vorwege oder nach Abstimmung vor Ort. Für alle übrigen Motorräder stehen ausreichend Parkflächen zur Verfügung.
URL:https://schuppeneins.de/termine/3-classic-custom-bikes-treffen/
LOCATION:Schuppen Eins
ORGANIZER;CN="Classic & Custom Bikes":MAILTO:michael@classiccandcustombikes.de
END:VEVENT
BEGIN:VEVENT
DTSTART;TZID=Europe/Berlin:20220526T170000
DTEND;TZID=Europe/Berlin:20220526T180000
DTSTAMP:20260425T183104
CREATED:20220302T123031Z
LAST-MODIFIED:20220302T123318Z
UID:10000007-1653584400-1653588000@schuppeneins.de
SUMMARY:Sonderführung „Borgward\, Bertha\, Benz und Bremen“
DESCRIPTION:Denkt man an Bremen und Automobil\, dann ist es oft Borgward\, was einem zuerst einfällt. In der Hansestadt werden bereits seit über 110 Jahren Autos gebaut. Im Schuppen Eins wird Bremer Automobilgeschichte erzählt\, so auch in Form dieses „automobilen Fußtörns“. Lauscht einem ehemaligen Hafenarbeiter\, wenn er von der Geschichte des Gebäudes erzählt\, erfahrt vom Umbau vom ehemaligen Kaischuppen zum Oldtimerzentrum und lernt den Reporter Rudi Hanfstängl kennen\, der von „Borgward\, Bertha\, Benz und Bremen“ schreiben möchte. Diese nicht immer ganz ernst gemeinte Alternative zur weiterhin buchbaren klassischen Schuppen Eins-Führung wird präsentiert vom Theater Interaktiwo in Kooperation mit dem Oldtimerzentrum. \n17.00 Uhr\nTreffpunkt Schuppen Eins\, Eingang Giebelseite\nPreis 6\,00 Euro/Person\nDauer rund eine Stunde \nEine Anmeldung ist erforderlich. \nKontakt:\nTHEATER INTERAKTIWO\nMail theater-interaktiwo@web.de\nTelefon 0421/70882160\nwww.theater-interaktiwo.de
URL:https://schuppeneins.de/termine/sonderfuehrung-borgward-bertha-benz-und-bremen-22/2022-05-26/
LOCATION:Schuppen Eins
ATTACH;FMTTYPE=image/jpeg:https://schuppeneins.de/wp-content/uploads/2017/07/BORGWARD1.jpg
ORGANIZER;CN="Theater Interaktiwo":MAILTO:Theater-interaktiwo@web.de
END:VEVENT
BEGIN:VEVENT
DTSTART;TZID=Europe/Berlin:20220528T080000
DTEND;TZID=Europe/Berlin:20220528T180000
DTSTAMP:20260425T183104
CREATED:20220302T130242Z
LAST-MODIFIED:20220302T130440Z
UID:10000021-1653724800-1653760800@schuppeneins.de
SUMMARY:Oldenburger Classic Days mit der Graf-Anton-Günther-Rallye 2022
DESCRIPTION:Schon seit einigen Jahren dürfen im Mai die Herzen aller Oldtimer-Fans höher schlagen. Rund 130 Teilnehmer mit ihren Boliden der verschiedensten Bauarten und Baujahre versuchen auf einem Rundkurs mitten durch die Oldenburger Innenstadt die ideale Durchschnittsgeschwindigkeit zu erzielen. Für weitere Unterhaltung sorgt zudem ein interessantes Rahmenprogramm mit Livemusik rund um das Fahrerlager. \nIn diesem Jahr müssen wir leider alle noch einmal auf diesen „City-Grand-Prix“ verzichten\, aber es wird eine Oldtimer Classic Rallye „Graf-Anton-Günther“ geben. Diese ganztägige Veranstaltung führt die Teilnehmerinnen und Teilnehmer wieder an ausgewählte Orte im Oldenburger Umland. \nDie Ausschreibung und das Nennformular findet Ihr unter www.oldenburger-classic-days.com. \nSamstag\, 28.05.2022\n08.00-18.00 Uhr\nOldenburg \nDer ClassicCarCharity Tag wird auf einen späteren Termin verschoben\, damit auch gewährleistet ist\, dass Teilnehmer und Gast-Beifahrer problemlos und entspannt zusammen in einem Oldtimer die Tour genießen können. \nKontakt:\nMotor-Sport-Club Oldenburg e.V. im ADAC\nTelefon 0441/9250881\nMail info@msc-oldenburg.de \nBild: Wolfgang Müller\, MSCO
URL:https://schuppeneins.de/termine/oldenburger-classic-days-mit-der-graf-anton-guenther-rallye-2022/
LOCATION:Schuppen Eins
ATTACH;FMTTYPE=image/jpeg:https://schuppeneins.de/wp-content/uploads/2022/03/GAG-2019_C-Wolfgang-Mueller-MSCO.jpg
ORGANIZER;CN="Motor-Sport-Club Oldenburg e.V. im ADAC":MAILTO:info@msc-oldenburg.de
END:VEVENT
BEGIN:VEVENT
DTSTART;TZID=Europe/Berlin:20220528T113000
DTEND;TZID=Europe/Berlin:20220528T140000
DTSTAMP:20260425T183104
CREATED:20220302T130010Z
LAST-MODIFIED:20220302T130010Z
UID:10000020-1653737400-1653746400@schuppeneins.de
SUMMARY:Jahrestreffen Alt-Ford-Freunde e.V.
DESCRIPTION:Die Alt-Ford-Freunde pflegen und erhalten historische Ford-Fahrzeuge. Gegründet 1977\, ist der Club bundesweit vertreten und unterstützt seine Mitglieder bei der Ersatzteilbeschaffung und gibt Reparatur- und Techniktipps. Der Verein ist organisiert in regionalen Stammtischen  und lädt vom 26. bis 29. Mai 2022 zu seinem Jahrestreffen ein\, dieses Mal in der Region Bremen. Vom ausrichtenden Ford-Autohaus Martens in Achim aus startet am Samstag\, 28.05. eine große Old- und Youngtimerausfahrt. Mittagsstopp ist der Schuppen Eins\, wo um die 120 klassische Ford über alle Baureihen hinweg erwartet werden. \nSamstag\, 28.05.2022\n11.30-14.00 Uhr\nAm Schuppen Eins \nKontakt:\nAlt-Ford-Freunde e.V.\nKai Köhnken\, Regionalleiter Weser-Ems\nTelefon 0170/3813685\nMail kai.koehnken@worpswede.de\nWeb www.alt-ford-freunde.de
URL:https://schuppeneins.de/termine/jahrestreffen-alt-ford-freunde-e-v/
LOCATION:Schuppen Eins
ORGANIZER;CN="Alt-Ford-Freunde e.V.":MAILTO:kai.koehnken@worpswede.de
END:VEVENT
END:VCALENDAR