BEGIN:VCALENDAR
VERSION:2.0
PRODID:-//SchuppenEins - ECPv6.15.20//NONSGML v1.0//EN
CALSCALE:GREGORIAN
METHOD:PUBLISH
X-ORIGINAL-URL:https://schuppeneins.de
X-WR-CALDESC:Veranstaltungen für SchuppenEins
REFRESH-INTERVAL;VALUE=DURATION:PT1H
X-Robots-Tag:noindex
X-PUBLISHED-TTL:PT1H
BEGIN:VTIMEZONE
TZID:Europe/Berlin
BEGIN:DAYLIGHT
TZOFFSETFROM:+0100
TZOFFSETTO:+0200
TZNAME:CEST
DTSTART:20210328T010000
END:DAYLIGHT
BEGIN:STANDARD
TZOFFSETFROM:+0200
TZOFFSETTO:+0100
TZNAME:CET
DTSTART:20211031T010000
END:STANDARD
BEGIN:DAYLIGHT
TZOFFSETFROM:+0100
TZOFFSETTO:+0200
TZNAME:CEST
DTSTART:20220327T010000
END:DAYLIGHT
BEGIN:STANDARD
TZOFFSETFROM:+0200
TZOFFSETTO:+0100
TZNAME:CET
DTSTART:20221030T010000
END:STANDARD
BEGIN:DAYLIGHT
TZOFFSETFROM:+0100
TZOFFSETTO:+0200
TZNAME:CEST
DTSTART:20230326T010000
END:DAYLIGHT
BEGIN:STANDARD
TZOFFSETFROM:+0200
TZOFFSETTO:+0100
TZNAME:CET
DTSTART:20231029T010000
END:STANDARD
END:VTIMEZONE
BEGIN:VEVENT
DTSTART;TZID=Europe/Berlin:20220611T100000
DTEND;TZID=Europe/Berlin:20220611T160000
DTSTAMP:20260425T165429
CREATED:20220302T130817Z
LAST-MODIFIED:20220302T130817Z
UID:10000022-1654941600-1654963200@schuppeneins.de
SUMMARY:Mercedes-Benz R129 SL-Treffen: Clubjubiläum R129 SL-Club & 70 Jahre Mercedes-Benz SL
DESCRIPTION:Der Mercedes-Benz SL der Baureihe 129 wurde von 1989 bis 2001 in Bremen gebaut. Vom Band gelaufen sind in dieser Zeit 204.940 Stück. Bereits kurz nach Produktionsende hat sich die bislang einzige deutsche Interessenvertretung dieser SL-Generation gegründet\, der Mercedes-Benz R129 SL-Club e.V.. Gemeinsam mit dem Schuppen Eins lädt der Verein im Rahmen des 20-jährigen Jubiläums ein zum großen SL-Treffen am Bremer Oldtimerzentrum.  Willkommen sind ebenso SL der weiteren Baureihen sowie alle Freunde und Fans der Fahrzeuge und der Marke. Parallel zum R129-Clubjubiläum blickt der SL-Roadster (hist. für „super-leicht“) auf seine 70-jährige Geschichte zurück. \n\nVorträge über die Entstehungs-\, Entwicklungs- und Erprobungsgeschichte\nEinblicke in die damalige Produktion\nFahrzeugpräsentation und Typenschau aller SL-Typen vom 300SL Flügeltürer bis zum aktuellen Modell Mercedes-AMG R232\nPräsentation der Technik-Highlights und der technische Meilensteine der Baureihe am  „lebenden“ Exponat\, dem „Gläsernen SL“\nLive einen Cabriodach-Neubezug miterleben\nAnsprechpartner für Ersatzteilfragen\, technische Probleme oder Hilfe beim Ankauf\nModeration und Unterhaltung\nEssen\, Trinken und Benzingespräche\n\nSamstag\, 11.06.2022\n10.00 Uhr-17.00 Uhr\nSchuppen Eins \nKontakt:\nSchuppen Eins – Zentrum für Automobilkultur und Mobilität\nAndré Castens\nTelefon 0421/365191-58\nMail info@schuppeneins.de
URL:https://schuppeneins.de/termine/mercedes-benz-r129-sl-treffen-clubjubilaeum-r129-sl-club-70-jahre-mercedes-benz-sl/
LOCATION:Schuppen Eins
ORGANIZER;CN="Schuppen Eins":MAILTO:info@schuppeneins.de
END:VEVENT
BEGIN:VEVENT
DTSTART;TZID=Europe/Berlin:20220611T100000
DTEND;TZID=Europe/Berlin:20220611T170000
DTSTAMP:20260425T165429
CREATED:20220302T131334Z
LAST-MODIFIED:20220302T131401Z
UID:10000023-1654941600-1654966800@schuppeneins.de
SUMMARY:Partnerevent 4. Bremer Luftkühler-Porsche-Klassik-Treffen
DESCRIPTION:Nach erfolgreichen Jahren am Schuppen Eins lädt Classic Porsche Racing gemeinsam mit NEUNELFMOTOREN und Peper&Söhne zur neusten Auflage von „Porsche Übersee“\, dem Bremer Luftkühler-Porsche-Klassik-Treffen. Wie schon in den Jahren zuvor gilt es\, Porschefans aus allen Bereichen zusammen zu bringen. Ob Outlaw\, Rennsportler oder Originalitätsliebhaber\, jeder ist bei „Porsche Übersee Vol. 4“ willkommen. \nSamstag\, 11.06.2022\n10.00 Uhr\nAllerkai 4\, Bremen-Hemelingen \nAnmeldung und Infos unter www.cpr-events.com/uebersee. \nKontakt:\nClassic Porsche Racing\nPhilip Behrens\nMail info@cpr-events.com
URL:https://schuppeneins.de/termine/partnerevent-4-bremer-luftkuehler-porsche-klassik-treffen/
LOCATION:Peper&Söhne\, Allerkai 4\, Bremen
ORGANIZER;CN="Classic Porsche Racing":MAILTO:info@cpr-events.com
END:VEVENT
BEGIN:VEVENT
DTSTART;TZID=Europe/Berlin:20220612T110000
DTEND;TZID=Europe/Berlin:20220612T160000
DTSTAMP:20260425T165429
CREATED:20220302T131849Z
LAST-MODIFIED:20220302T131849Z
UID:10000024-1655031600-1655049600@schuppeneins.de
SUMMARY:Tausch- und Kaufbörse für Modellautos und Modelleisenbahnen
DESCRIPTION:Die beliebte Börse für Modellautos\, Modelleisenbahn und Spielzeug in unterschiedlichen Maßstäben des Modellautoclub Weser-Ems e.V. \nSonntag\, 12.06.2022\n11.00-16.00 Uhr \nDer Eintritt ist frei! \nKontakt:\nModell-Auto-Club Weser-Ems e.V.\nManfred Nauland\nMail macinfo@mac-weserems.de
URL:https://schuppeneins.de/termine/tausch-und-kaufboerse-fuer-modellautos-und-modelleisenbahnen-3/
LOCATION:Schuppen Eins
ATTACH;FMTTYPE=image/jpeg:https://schuppeneins.de/wp-content/uploads/2022/03/DSCF8167_m-1.jpg
END:VEVENT
BEGIN:VEVENT
DTSTART;TZID=Europe/Berlin:20220623T170000
DTEND;TZID=Europe/Berlin:20220623T180000
DTSTAMP:20260425T165429
CREATED:20220302T123031Z
LAST-MODIFIED:20220302T123318Z
UID:10000008-1656003600-1656007200@schuppeneins.de
SUMMARY:Sonderführung „Borgward\, Bertha\, Benz und Bremen“
DESCRIPTION:Denkt man an Bremen und Automobil\, dann ist es oft Borgward\, was einem zuerst einfällt. In der Hansestadt werden bereits seit über 110 Jahren Autos gebaut. Im Schuppen Eins wird Bremer Automobilgeschichte erzählt\, so auch in Form dieses „automobilen Fußtörns“. Lauscht einem ehemaligen Hafenarbeiter\, wenn er von der Geschichte des Gebäudes erzählt\, erfahrt vom Umbau vom ehemaligen Kaischuppen zum Oldtimerzentrum und lernt den Reporter Rudi Hanfstängl kennen\, der von „Borgward\, Bertha\, Benz und Bremen“ schreiben möchte. Diese nicht immer ganz ernst gemeinte Alternative zur weiterhin buchbaren klassischen Schuppen Eins-Führung wird präsentiert vom Theater Interaktiwo in Kooperation mit dem Oldtimerzentrum. \n17.00 Uhr\nTreffpunkt Schuppen Eins\, Eingang Giebelseite\nPreis 6\,00 Euro/Person\nDauer rund eine Stunde \nEine Anmeldung ist erforderlich. \nKontakt:\nTHEATER INTERAKTIWO\nMail theater-interaktiwo@web.de\nTelefon 0421/70882160\nwww.theater-interaktiwo.de
URL:https://schuppeneins.de/termine/sonderfuehrung-borgward-bertha-benz-und-bremen-22/2022-06-23/
LOCATION:Schuppen Eins
ATTACH;FMTTYPE=image/jpeg:https://schuppeneins.de/wp-content/uploads/2017/07/BORGWARD1.jpg
ORGANIZER;CN="Theater Interaktiwo":MAILTO:Theater-interaktiwo@web.de
END:VEVENT
BEGIN:VEVENT
DTSTART;TZID=Europe/Berlin:20220625T100000
DTEND;TZID=Europe/Berlin:20220625T180000
DTSTAMP:20260425T165429
CREATED:20220302T132348Z
LAST-MODIFIED:20220302T132405Z
UID:10000025-1656151200-1656180000@schuppeneins.de
SUMMARY:Partnerevent Bremen Oldtimer Classics
DESCRIPTION:Als am 1. August 1998 im Hotel Strandlust Vegesack 45 Oldtimer zur ersten Bremen Oldtimer Classics gestartet sind\, wusste keiner\, welche Dimensionen die bekannteste Oldtimerfahrt in Bremen einmal annimmt. Mittlerweile startet das Team mit einem Teilnehmerfeld von bis zu 170 Fahrzeugen. Und was mit einer kleinen Runde aus Freunden und Bekannten begann\, benötigt heute bis zu 30 Helfer\, um die Veranstaltung so reibungslos wie möglich ablaufen zu lassen. \nDie Bremen Oldtimer Classics ist ein Gemeinschaftsprojekt der Oldtimer Galerie Bremen im Schuppen Eins und der Tradex Park GmbH. \nSamstag\, 25.06.2022\n10.00 Uhr\nMarktplatz Bremen \nHabt Ihr Fragen oder möchtet gerne teilnehmen\, dann sendet eine E-Mail an \nOldtimer Galerie Bremen\nTanja Sörensen\nMail post@bremen-oldtimer-classics.de\nWeb www.bremen-oldtimer-classics.de
URL:https://schuppeneins.de/termine/partnerevent-bremen-oldtimer-classics/
LOCATION:Marktplatz Bremen\, Am Markt 1\, Bremen
ATTACH;FMTTYPE=image/jpeg:https://schuppeneins.de/wp-content/uploads/2022/03/1773108_1_gallerydetailpremium_558fbcc77bba5.jpg
END:VEVENT
BEGIN:VEVENT
DTSTART;TZID=Europe/Berlin:20220626T090000
DTEND;TZID=Europe/Berlin:20220626T180000
DTSTAMP:20260425T165429
CREATED:20220302T132647Z
LAST-MODIFIED:20220302T132719Z
UID:10000026-1656234000-1656266400@schuppeneins.de
SUMMARY:Partnerevent Engländer-Treffen Rastede
DESCRIPTION:Die Liebhaber historischer englischer Fahrzeuge sollten sich den 26. Juni dick im Kalender anstreichen. Denn an diesem Tag findet im schönen Residenzort Rastede im Ammerland das erste Treffen englischer Old- und Youngtimer\, Kit-Cars und GfK-Fahrzeuge statt. \nOrganisator Henning Spille fährt selber englische Fahrzeuge und möchte den Fans solcher Old- und Youngtimer auch hier im Norden die Möglichkeit zum Austausch bieten. In der schönen Ammerländer Parklandschaft – fast vergleichbar mit „Good old England“ – könnt Ihr einen unbeschwerten Tag mit Gleichgesinnten verbringen. Bringt Eure Picknickdecke und den Picknickkorb mit und genießt die Zeit mit anderen English-Car-Fans. \nDamit an diesem Tag auch alles passt\, wird um eine unverbindliche Anmeldung gebeten unter www.englaendertreffen-rastede.de. \nSonntag\, 26.06.2022\n9.00-18.00 Uhr\nKögel-Wilms-Platz\, Rastede \nKontakt:\nHenning Spille\nMail info@englaendertreffen-rastede.de
URL:https://schuppeneins.de/termine/partnerevent-englaender-treffen-rastede/
LOCATION:Schuppen Eins
ATTACH;FMTTYPE=image/jpeg:https://schuppeneins.de/wp-content/uploads/2022/03/DSC_0376_1000.jpg
END:VEVENT
END:VCALENDAR