BEGIN:VCALENDAR
VERSION:2.0
PRODID:-//SchuppenEins - ECPv6.15.20//NONSGML v1.0//EN
CALSCALE:GREGORIAN
METHOD:PUBLISH
X-ORIGINAL-URL:https://schuppeneins.de
X-WR-CALDESC:Veranstaltungen für SchuppenEins
REFRESH-INTERVAL;VALUE=DURATION:PT1H
X-Robots-Tag:noindex
X-PUBLISHED-TTL:PT1H
BEGIN:VTIMEZONE
TZID:Europe/Berlin
BEGIN:DAYLIGHT
TZOFFSETFROM:+0100
TZOFFSETTO:+0200
TZNAME:CEST
DTSTART:20210328T010000
END:DAYLIGHT
BEGIN:STANDARD
TZOFFSETFROM:+0200
TZOFFSETTO:+0100
TZNAME:CET
DTSTART:20211031T010000
END:STANDARD
BEGIN:DAYLIGHT
TZOFFSETFROM:+0100
TZOFFSETTO:+0200
TZNAME:CEST
DTSTART:20220327T010000
END:DAYLIGHT
BEGIN:STANDARD
TZOFFSETFROM:+0200
TZOFFSETTO:+0100
TZNAME:CET
DTSTART:20221030T010000
END:STANDARD
BEGIN:DAYLIGHT
TZOFFSETFROM:+0100
TZOFFSETTO:+0200
TZNAME:CEST
DTSTART:20230326T010000
END:DAYLIGHT
BEGIN:STANDARD
TZOFFSETFROM:+0200
TZOFFSETTO:+0100
TZNAME:CET
DTSTART:20231029T010000
END:STANDARD
END:VTIMEZONE
BEGIN:VEVENT
DTSTART;VALUE=DATE:20220715
DTEND;VALUE=DATE:20220719
DTSTAMP:20260425T151834
CREATED:20220302T133049Z
LAST-MODIFIED:20220302T133120Z
UID:10000027-1657872000-1658131199@schuppeneins.de
SUMMARY:Partnerevent Einbecker Oldtimertage / PS.SPEICHER Rallye
DESCRIPTION:Vom 15.-17.07.2022 veranstaltet unser Partner PS.SPEICHER wieder die Einbecker Oldtimertage. Auch in diesem Jahr lädt Europas größte Oldtimersammlung alle Klassikerfans ein\, für drei Tage mit ihren Fahrzeugen in die Fachwerkstadt zu kommen. \nNeben einem bunten Rahmenprogramm wird es natürlich auch wieder die PS.SPEICHER Rallye geben. Alle Infos findet Ihr unter www.ps-speicher.de/oldtimertage.php. \nFreitag\, 15.07.2022 Anreise und get-together\nSamstag\, 16.07.2022 PS-SPEICHER Rallye\nSonntag\, 17.07.2022 Oldtimerkorso durch Einbeck \nAufgrund des immensen Interesses an der Rallye kann der PS.SPEICHER leider keine neuen Nennungen aufnehmen\, wird aber alles versuchen\, um noch weitere Kapazitäten zu schaffen. So können sich alle Interessierte auf einer Warteliste registrieren. Schreibt bei Interesse eine Mail an ps-rallye@ps-speicher.de und gebt darin kurz an\, mit welchem Fahrzeug (Marke\, Modell\, BJ – gerne auch mit Foto) Ihr teilnehmen möchtet. Das Team wird sich zum gegebenen Zeitpunkt bei Euch zurückmelden und alles Weitere klären. \nKontakt:\nPS.SPEICHER\nChristina Koch\nMail ps-rallye@ps-speicher.de
URL:https://schuppeneins.de/termine/partnerevent-einbecker-oldtimertage-ps-speicher-rallye/
LOCATION:PS.Speicher\, Tiedexer Tor 3\, Einbeck\, 37574
ATTACH;FMTTYPE=image/jpeg:https://schuppeneins.de/wp-content/uploads/2022/03/20210725_105026_m.jpg
END:VEVENT
BEGIN:VEVENT
DTSTART;TZID=Europe/Berlin:20220716T100000
DTEND;TZID=Europe/Berlin:20220716T170000
DTSTAMP:20260425T151834
CREATED:20220613T090152Z
LAST-MODIFIED:20220613T090248Z
UID:10000038-1657965600-1657990800@schuppeneins.de
SUMMARY:Partnerevent "Audi-Treffen 2.0" in Scheessel
DESCRIPTION:Unser Audi-Meeting am 3. September ist noch etwas hin\, wer bis dahin nicht warten mag\, besucht gerne unser Partner-Event im niedersächsischen Scheessel!
URL:https://schuppeneins.de/termine/partner-event-audi-treffen-2-0-in-scheessel/
LOCATION:Westerescher Hof\, 27383 Scheessel
END:VEVENT
BEGIN:VEVENT
DTSTART;TZID=Europe/Berlin:20220728T170000
DTEND;TZID=Europe/Berlin:20220728T180000
DTSTAMP:20260425T151834
CREATED:20220302T123031Z
LAST-MODIFIED:20220302T123318Z
UID:10000009-1659027600-1659031200@schuppeneins.de
SUMMARY:Sonderführung „Borgward\, Bertha\, Benz und Bremen“
DESCRIPTION:Denkt man an Bremen und Automobil\, dann ist es oft Borgward\, was einem zuerst einfällt. In der Hansestadt werden bereits seit über 110 Jahren Autos gebaut. Im Schuppen Eins wird Bremer Automobilgeschichte erzählt\, so auch in Form dieses „automobilen Fußtörns“. Lauscht einem ehemaligen Hafenarbeiter\, wenn er von der Geschichte des Gebäudes erzählt\, erfahrt vom Umbau vom ehemaligen Kaischuppen zum Oldtimerzentrum und lernt den Reporter Rudi Hanfstängl kennen\, der von „Borgward\, Bertha\, Benz und Bremen“ schreiben möchte. Diese nicht immer ganz ernst gemeinte Alternative zur weiterhin buchbaren klassischen Schuppen Eins-Führung wird präsentiert vom Theater Interaktiwo in Kooperation mit dem Oldtimerzentrum. \n17.00 Uhr\nTreffpunkt Schuppen Eins\, Eingang Giebelseite\nPreis 6\,00 Euro/Person\nDauer rund eine Stunde \nEine Anmeldung ist erforderlich. \nKontakt:\nTHEATER INTERAKTIWO\nMail theater-interaktiwo@web.de\nTelefon 0421/70882160\nwww.theater-interaktiwo.de
URL:https://schuppeneins.de/termine/sonderfuehrung-borgward-bertha-benz-und-bremen-22/2022-07-28/
LOCATION:Schuppen Eins
ATTACH;FMTTYPE=image/jpeg:https://schuppeneins.de/wp-content/uploads/2017/07/BORGWARD1.jpg
ORGANIZER;CN="Theater Interaktiwo":MAILTO:Theater-interaktiwo@web.de
END:VEVENT
END:VCALENDAR