BEGIN:VCALENDAR
VERSION:2.0
PRODID:-//SchuppenEins - ECPv6.15.20//NONSGML v1.0//EN
CALSCALE:GREGORIAN
METHOD:PUBLISH
X-WR-CALNAME:SchuppenEins
X-ORIGINAL-URL:https://schuppeneins.de
X-WR-CALDESC:Veranstaltungen für SchuppenEins
REFRESH-INTERVAL;VALUE=DURATION:PT1H
X-Robots-Tag:noindex
X-PUBLISHED-TTL:PT1H
BEGIN:VTIMEZONE
TZID:Europe/Berlin
BEGIN:DAYLIGHT
TZOFFSETFROM:+0100
TZOFFSETTO:+0200
TZNAME:CEST
DTSTART:20220327T010000
END:DAYLIGHT
BEGIN:STANDARD
TZOFFSETFROM:+0200
TZOFFSETTO:+0100
TZNAME:CET
DTSTART:20221030T010000
END:STANDARD
BEGIN:DAYLIGHT
TZOFFSETFROM:+0100
TZOFFSETTO:+0200
TZNAME:CEST
DTSTART:20230326T010000
END:DAYLIGHT
BEGIN:STANDARD
TZOFFSETFROM:+0200
TZOFFSETTO:+0100
TZNAME:CET
DTSTART:20231029T010000
END:STANDARD
BEGIN:DAYLIGHT
TZOFFSETFROM:+0100
TZOFFSETTO:+0200
TZNAME:CEST
DTSTART:20240331T010000
END:DAYLIGHT
BEGIN:STANDARD
TZOFFSETFROM:+0200
TZOFFSETTO:+0100
TZNAME:CET
DTSTART:20241027T010000
END:STANDARD
END:VTIMEZONE
BEGIN:VEVENT
DTSTART;TZID=Europe/Berlin:20230511T180000
DTEND;TZID=Europe/Berlin:20230511T193000
DTSTAMP:20260424T230855
CREATED:20230220T142943Z
LAST-MODIFIED:20230220T142943Z
UID:10000052-1683828000-1683833400@schuppeneins.de
SUMMARY:Goggo\, Janus\, Käfer & Co oder: Wenn das "Auto" Theater macht...
DESCRIPTION:Natürlich macht jedes Auto immer mal Theater\, aber in dieser Gemeinschaftsproduktion könnt Ihr Euch auf eine ungewöhnliche Annäherung an das Thema freuen. \nEs wurde genug berichtet über Berta Benz und ihren berühmten Tankstopp in der Apotheke. Sind aber je die beiden Kundinnen zu Wort gekommen\, die nach Frau Benz die Apotheke betreten haben oder der dichtende Mechaniker? \nWerdet Augenzeugen von dem\, was in der Apotheke los war\, als Bertha Benz mit ihrer Kutsche weggefahren ist. Ferner geht es auch zurück in die Zeit der Autowerbung rund um Graf Isolani und das Goggomobil. Außerdem riskieren wir einen Blick in die Zukunft\, die eigentlich schon angefangen hat. \nFreut Euch auf einen kurzweiligen Theater-Abend\, die Vorstellung findet open air vor dem Schuppen Eins statt. Bitte einen eigenen Stuhl mitbringen. \nSchuppen Eins\nPlateau an der Giebelseite \nWeitere Informationen gibt es beim THEATER INTERAKTIWo unter Telefon 0421/ 70882160.
URL:https://schuppeneins.de/termine/goggo-janus-kaefer-co-oder-wenn-das-auto-theater-macht/
LOCATION:Schuppen Eins
ORGANIZER;CN="Theater Interaktiwo":MAILTO:Theater-interaktiwo@web.de
END:VEVENT
BEGIN:VEVENT
DTSTART;TZID=Europe/Berlin:20230513T110000
DTEND;TZID=Europe/Berlin:20230513T170000
DTSTAMP:20260424T230855
CREATED:20230221T162608Z
LAST-MODIFIED:20230510T153237Z
UID:10000059-1683975600-1683997200@schuppeneins.de
SUMMARY:Spezialtreffen „100 Jahre BMW Motorrad“
DESCRIPTION:Auf der Deutschen Automobilausstellung im September 1923 präsentierte BMW sein erstes Motorrad der Weltöffentlichkeit\, konstruiert von Chefingenieur Max Fritz. In diesem Jahr wiederholt sich das Datum zum 100. Male – Zeit\, diesen großen runden Geburtstag zu feiern. \n  \nKontakt: \nClassic & Custom Bikes\nMichael Silbermann\nMail michael@classicandcustombikes.de\nwww.facebook.com/classicandcustombikes
URL:https://schuppeneins.de/termine/spezialtreffen-100-jahre-bmw-motorrad/
LOCATION:Schuppen Eins
ATTACH;FMTTYPE=image/jpeg:https://schuppeneins.de/wp-content/uploads/2023/02/100-Jahre-BMW.jpg
ORGANIZER;CN="Schuppen Eins":MAILTO:info@schuppeneins.de
END:VEVENT
BEGIN:VEVENT
DTSTART;TZID=Europe/Berlin:20230514T100000
DTEND;TZID=Europe/Berlin:20230514T170000
DTSTAMP:20260424T230855
CREATED:20230221T162846Z
LAST-MODIFIED:20230221T162846Z
UID:10000060-1684058400-1684083600@schuppeneins.de
SUMMARY:Classic&Custom Bikes-Treffen
DESCRIPTION:Nach der sensationellen Resonanz aus den Vorjahren das mittlerweile vierte Treffen für Fans klassischer Motorräder\, für Customizing und für individuelle Zweirad-Umbauten. \nEin offenes\, markenunabhängiges Meeting für Gleichgesinnte und Freunde des alten Eisens mit Projektvorstellungen und zwanglosen Benzingesprächen. \nZugelassen sind alles Bikes bis Baujahr 1995. Interessante\, außergewöhnliche Umbauten jüngeren Datums gerne nach Rücksprache im Vorwege oder nach Abstimmung vor Ort. Für alle übrigen Motorräder stehen ausreichend Parkflächen zur Verfügung. \n  \nKontakt: \nClassic & Custom Bikes\nMichael Silbermann\nMail michael@classicandcustombikes.de\nwww.facebook.com/classicandcustombikes
URL:https://schuppeneins.de/termine/classiccustom-bikes-treffen/
LOCATION:Schuppen Eins
ATTACH;FMTTYPE=image/jpeg:https://schuppeneins.de/wp-content/uploads/2023/02/CCB-2022-scaled.jpg
ORGANIZER;CN="Schuppen Eins":MAILTO:info@schuppeneins.de
END:VEVENT
BEGIN:VEVENT
DTSTART;TZID=Europe/Berlin:20230525T170000
DTEND;TZID=Europe/Berlin:20230525T180000
DTSTAMP:20260424T230855
CREATED:20230220T141642Z
LAST-MODIFIED:20230220T141642Z
UID:10000045-1685034000-1685037600@schuppeneins.de
SUMMARY:Sonderführung „Borgward\, Bertha\, Benz und Bremen“
DESCRIPTION:Denkt man an Bremen und Automobil\, dann ist es oft Borgward\, was einem zuerst einfällt. In der Hansestadt werden bereits seit über 110 Jahren Autos gebaut. Im Schuppen Eins wird Bremer Automobilgeschichte erzählt\, so auch in Form dieses „automobilen Fußtörns“. Lauscht einem ehemaligen Hafenarbeiter\, wenn er von der Geschichte des Gebäudes erzählt\, erfahrt vom Umbau vom ehemaligen Kaischuppen zum Oldtimerzentrum und lernt den Reporter Rudi Hanfstängl kennen\, der von „Borgward\, Bertha\, Benz und Bremen“ schreiben möchte. Diese nicht immer ganz ernst gemeinte Alternative zur weiterhin buchbaren klassischen Schuppen Eins-Führung wird präsentiert vom Theater Interaktiwo in Kooperation mit dem Oldtimerzentrum. \nTreffpunkt Schuppen Eins\, Eingang Giebelseite\nDauer rund eine Stunde\nKonsul-Smidt-Straße 20-26\, 28217 Bremen \nEine Anmeldung ist erforderlich. \nKontakt:\nTHEATER INTERAKTIWO\nMail theater-interaktiwo@web.de\nTelefon 0421/70882160\nwww.theater-interaktiwo.de
URL:https://schuppeneins.de/termine/sonderfuehrung-borgward-bertha-benz-und-bremen-4/
LOCATION:Schuppen Eins
ATTACH;FMTTYPE=image/jpeg:https://schuppeneins.de/wp-content/uploads/2023/02/BORGWARD1_600.jpg
ORGANIZER;CN="Theater Interaktiwo":MAILTO:Theater-interaktiwo@web.de
END:VEVENT
END:VCALENDAR