BEGIN:VCALENDAR
VERSION:2.0
PRODID:-//SchuppenEins - ECPv6.15.20//NONSGML v1.0//EN
CALSCALE:GREGORIAN
METHOD:PUBLISH
X-WR-CALNAME:SchuppenEins
X-ORIGINAL-URL:https://schuppeneins.de
X-WR-CALDESC:Veranstaltungen für SchuppenEins
REFRESH-INTERVAL;VALUE=DURATION:PT1H
X-Robots-Tag:noindex
X-PUBLISHED-TTL:PT1H
BEGIN:VTIMEZONE
TZID:Europe/Berlin
BEGIN:DAYLIGHT
TZOFFSETFROM:+0100
TZOFFSETTO:+0200
TZNAME:CEST
DTSTART:20220327T010000
END:DAYLIGHT
BEGIN:STANDARD
TZOFFSETFROM:+0200
TZOFFSETTO:+0100
TZNAME:CET
DTSTART:20221030T010000
END:STANDARD
BEGIN:DAYLIGHT
TZOFFSETFROM:+0100
TZOFFSETTO:+0200
TZNAME:CEST
DTSTART:20230326T010000
END:DAYLIGHT
BEGIN:STANDARD
TZOFFSETFROM:+0200
TZOFFSETTO:+0100
TZNAME:CET
DTSTART:20231029T010000
END:STANDARD
BEGIN:DAYLIGHT
TZOFFSETFROM:+0100
TZOFFSETTO:+0200
TZNAME:CEST
DTSTART:20240331T010000
END:DAYLIGHT
BEGIN:STANDARD
TZOFFSETFROM:+0200
TZOFFSETTO:+0100
TZNAME:CET
DTSTART:20241027T010000
END:STANDARD
END:VTIMEZONE
BEGIN:VEVENT
DTSTART;TZID=Europe/Berlin:20230903T100000
DTEND;TZID=Europe/Berlin:20230903T160000
DTSTAMP:20260424T164952
CREATED:20230222T102339Z
LAST-MODIFIED:20230601T070335Z
UID:10000065-1693735200-1693756800@schuppeneins.de
SUMMARY:Offenes monatliches Oldtimertreffen
DESCRIPTION:Jetzt NEU: Offene monatliche Oldtimertreffen am Schuppen Eins für Jeden und Jedes. Ab sofort und jetzt immer am Sonntag. \nJedes Treffen hat einen Schwerpunkt\, entsprechende Fahrzeuge werden besonders präsent geparkt. Dazu gibt es natürlich stilecht die passenden Speisen und Getränke. \nHeute mit dem Schwerpunkt „Youngtimer\, Newtimer\, Neoclassics – das Treffen für die Klassiker von morgen“
URL:https://schuppeneins.de/termine/neu-offenes-monatliches-oldtimertreffen-4/
LOCATION:Schuppen Eins
ORGANIZER;CN="Schuppen Eins":MAILTO:info@schuppeneins.de
END:VEVENT
BEGIN:VEVENT
DTSTART;TZID=Europe/Berlin:20230910T100000
DTEND;TZID=Europe/Berlin:20230910T160000
DTSTAMP:20260424T164952
CREATED:20230222T104427Z
LAST-MODIFIED:20230222T104427Z
UID:10000066-1694340000-1694361600@schuppeneins.de
SUMMARY:Spezialtreffen „Alles Plastik… oder was?“
DESCRIPTION:Unsere deutschlandweit einmalige Veranstaltung für GFK-Oldtimer geht in die sechste Runde! \nTreffen für alle Kunststoff-Old- & Youngtimer sowie weitere Blech-Auto-Exoten und Einzelstücke \nWillkommen sind ebenso alle Auto-Exoten\, Einzelstücke\, seltene Karossen\, Umbauten\, historische Verspoilerungen\, Breitbauten und rare Sonderlinge aller Baujahre aus Blech\, Kunststoff\, Holz oder anderen Materialien \n\nFahrzeuge\, die man sonst so nicht oft zu Gesicht bekommt\nErfahrungsaustausch und nicht nur „Plastik“-Gespräche\nAussteller und Referenten\, Materialkunde und Verarbeitungstipps zum Thema Verbundwerkstoffe/GFK\nPraxisbeispiele und Demonstrationsobjekte\nMusik\, Essen & Trinken\n\nKontakt:\nRolf Binnemann\nrolf.binnemann@ewetel.net\nTelefon 0151/68140298\nhttps://alles-plastik-oder-was.com
URL:https://schuppeneins.de/termine/spezialtreffen-alles-plastik-oder-was/
LOCATION:Schuppen Eins
ORGANIZER;CN="Schuppen Eins":MAILTO:info@schuppeneins.de
END:VEVENT
BEGIN:VEVENT
DTSTART;TZID=Europe/Berlin:20230928T170000
DTEND;TZID=Europe/Berlin:20230928T180000
DTSTAMP:20260424T164952
CREATED:20230220T142239Z
LAST-MODIFIED:20230220T142239Z
UID:10000049-1695920400-1695924000@schuppeneins.de
SUMMARY:Sonderführung „Borgward\, Bertha\, Benz und Bremen“
DESCRIPTION:Denkt man an Bremen und Automobil\, dann ist es oft Borgward\, was einem zuerst einfällt. In der Hansestadt werden bereits seit über 110 Jahren Autos gebaut. Im Schuppen Eins wird Bremer Automobilgeschichte erzählt\, so auch in Form dieses „automobilen Fußtörns“. Lauscht einem ehemaligen Hafenarbeiter\, wenn er von der Geschichte des Gebäudes erzählt\, erfahrt vom Umbau vom ehemaligen Kaischuppen zum Oldtimerzentrum und lernt den Reporter Rudi Hanfstängl kennen\, der von „Borgward\, Bertha\, Benz und Bremen“ schreiben möchte. Diese nicht immer ganz ernst gemeinte Alternative zur weiterhin buchbaren klassischen Schuppen Eins-Führung wird präsentiert vom Theater Interaktiwo in Kooperation mit dem Oldtimerzentrum. \nTreffpunkt Schuppen Eins\, Eingang Giebelseite\nDauer rund eine Stunde\nKonsul-Smidt-Straße 20-26\, 28217 Bremen \nEine Anmeldung ist erforderlich. \nKontakt:\nTHEATER INTERAKTIWO\nMail theater-interaktiwo@web.de\nTelefon 0421/70882160\nwww.theater-interaktiwo.de
URL:https://schuppeneins.de/termine/sonderfuehrung-borgward-bertha-benz-und-bremen-8/
LOCATION:Schuppen Eins
ATTACH;FMTTYPE=image/jpeg:https://schuppeneins.de/wp-content/uploads/2023/02/BORGWARD1_600.jpg
ORGANIZER;CN="Theater Interaktiwo":MAILTO:Theater-interaktiwo@web.de
END:VEVENT
END:VCALENDAR