BEGIN:VCALENDAR
VERSION:2.0
PRODID:-//SchuppenEins - ECPv6.15.20//NONSGML v1.0//EN
CALSCALE:GREGORIAN
METHOD:PUBLISH
X-WR-CALNAME:SchuppenEins
X-ORIGINAL-URL:https://schuppeneins.de
X-WR-CALDESC:Veranstaltungen für SchuppenEins
REFRESH-INTERVAL;VALUE=DURATION:PT1H
X-Robots-Tag:noindex
X-PUBLISHED-TTL:PT1H
BEGIN:VTIMEZONE
TZID:Europe/Berlin
BEGIN:DAYLIGHT
TZOFFSETFROM:+0100
TZOFFSETTO:+0200
TZNAME:CEST
DTSTART:20220327T010000
END:DAYLIGHT
BEGIN:STANDARD
TZOFFSETFROM:+0200
TZOFFSETTO:+0100
TZNAME:CET
DTSTART:20221030T010000
END:STANDARD
BEGIN:DAYLIGHT
TZOFFSETFROM:+0100
TZOFFSETTO:+0200
TZNAME:CEST
DTSTART:20230326T010000
END:DAYLIGHT
BEGIN:STANDARD
TZOFFSETFROM:+0200
TZOFFSETTO:+0100
TZNAME:CET
DTSTART:20231029T010000
END:STANDARD
BEGIN:DAYLIGHT
TZOFFSETFROM:+0100
TZOFFSETTO:+0200
TZNAME:CEST
DTSTART:20240331T010000
END:DAYLIGHT
BEGIN:STANDARD
TZOFFSETFROM:+0200
TZOFFSETTO:+0100
TZNAME:CET
DTSTART:20241027T010000
END:STANDARD
END:VTIMEZONE
BEGIN:VEVENT
DTSTART;TZID=Europe/Berlin:20231001T100000
DTEND;TZID=Europe/Berlin:20231001T160000
DTSTAMP:20260424T152558
CREATED:20230222T105313Z
LAST-MODIFIED:20230222T105313Z
UID:10000067-1696154400-1696176000@schuppeneins.de
SUMMARY:Offenes monatliches Oldtimertreffen & Saisonabschluss
DESCRIPTION:Jetzt NEU: Offene monatliche Oldtimertreffen am Schuppen Eins für Jeden und Jedes. Ab sofort und jetzt immer am Sonntag. \nJedes Treffen hat einen Schwerpunkt\, entsprechende Fahrzeuge werden besonders präsent geparkt. Dazu gibt es natürlich stilecht die passenden Speisen und Getränke. \nMit dem heutigen Schwerpunkt „Muscles and Mustangs – Season closing with chrome & barbecue“ beschließen wir die diesjährige Saison. \n 
URL:https://schuppeneins.de/termine/offenes-monatliches-oldtimertreffen-saisonabschluss/
LOCATION:Schuppen Eins
ORGANIZER;CN="Schuppen Eins":MAILTO:info@schuppeneins.de
END:VEVENT
BEGIN:VEVENT
DTSTART;TZID=Europe/Berlin:20231003T110000
DTEND;TZID=Europe/Berlin:20231003T160000
DTSTAMP:20260424T152558
CREATED:20230222T110132Z
LAST-MODIFIED:20230222T110132Z
UID:10000068-1696330800-1696348800@schuppeneins.de
SUMMARY:Tausch- und Kaufbörse für Modellautos und Modelleisenbahnen
DESCRIPTION:Die beliebte Tausch- und Kaufbörse für Modellautos\, Modelleisenbahn und Spielzeug in unterschiedlichen Maßstäben des Modellautoclub Weser-Ems e.V. \nDer Eintritt ist frei! \nKontakt:\nModell-Auto-Club Weser-Ems e.V.\nManfred Nauland\nMail macinfo@mac-weserems.de\nTelefon 0421/412009\nwww.mac-weserems.de
URL:https://schuppeneins.de/termine/tausch-und-kaufboerse-fuer-modellautos-und-modelleisenbahnen-6/
LOCATION:Schuppen Eins
ATTACH;FMTTYPE=image/jpeg:https://schuppeneins.de/wp-content/uploads/2019/05/P1020098.jpg
END:VEVENT
BEGIN:VEVENT
DTSTART;TZID=Europe/Berlin:20231022T090000
DTEND;TZID=Europe/Berlin:20231022T170000
DTSTAMP:20260424T152558
CREATED:20230222T112250Z
LAST-MODIFIED:20230714T141957Z
UID:10000069-1697965200-1697994000@schuppeneins.de
SUMMARY:GLOBO Fahrzeugpflege-Workshop
DESCRIPTION:Wir haben die Autopflege-Spezialisten von Globo Car Care zu Gast\, die Euch zeigen\, wie Ihr schonend und effizient Euer Fahrzeug innen wie außen reinigt\, aufbereitet und werterhaltend pflegt. Der Spaß und Austausch unter gleichgesinnten AutoliebhaberInnen kommt dabei selbstverständlich nicht zu kurz. \nLos geht es mit grundlegenden Infos\, Ihr erfahrt etwas unter anderem über Lackaufbau\, Lackdefekte\, Kunststoffe und Leder\, schonende Wäsche\, Poliermaschinen und Polituren\, UV-Schutz und Elastizität von Materialien. \nIm folgenden praktischen Teil kommen die Pflegeprodukte am Fahrzeug zum Einsatz. Nach einer jeweiligen Vorführung durch die Globo-Spezialisten in kleinen Gruppen könnt Ihr direkt damit an Euren eigenen Wagen unter professioneller Anleitung arbeiten. \nAm Ende habt Ihr die Gelegenheit\, die kennengelernten Mittel vor Ort zum Sonderpreis zu erwerben. \nDer Teilnahmebeitrag beträgt 249\,- Euro pro TeilnehmerIn und Fahrzeug. Eine verbindliche Anmeldung ist erforderlich per Email an André Castens unter info@schuppeneins.de. Nach der Anmeldung erhaltet Ihr eine Bankverbindung. Erst nach dem Geldeingang habt Ihr Euren Platz sicher. \nAnmeldeschluss ist der 11.10.2023. \nBei großem Interesse und für geschlossene Gruppen sind weitere individuelle Termine möglich. Sprecht uns gern dazu an! \nhttps://globocarcare.com \nhttps://www.globo-autokosmetik.shop
URL:https://schuppeneins.de/termine/globo-fahrzeugpflege-workshop/
LOCATION:Schuppen Eins
END:VEVENT
BEGIN:VEVENT
DTSTART;TZID=Europe/Berlin:20231026T170000
DTEND;TZID=Europe/Berlin:20231026T180000
DTSTAMP:20260424T152558
CREATED:20230220T142426Z
LAST-MODIFIED:20230220T142426Z
UID:10000050-1698339600-1698343200@schuppeneins.de
SUMMARY:Sonderführung „Borgward\, Bertha\, Benz und Bremen“
DESCRIPTION:Denkt man an Bremen und Automobil\, dann ist es oft Borgward\, was einem zuerst einfällt. In der Hansestadt werden bereits seit über 110 Jahren Autos gebaut. Im Schuppen Eins wird Bremer Automobilgeschichte erzählt\, so auch in Form dieses „automobilen Fußtörns“. Lauscht einem ehemaligen Hafenarbeiter\, wenn er von der Geschichte des Gebäudes erzählt\, erfahrt vom Umbau vom ehemaligen Kaischuppen zum Oldtimerzentrum und lernt den Reporter Rudi Hanfstängl kennen\, der von „Borgward\, Bertha\, Benz und Bremen“ schreiben möchte. Diese nicht immer ganz ernst gemeinte Alternative zur weiterhin buchbaren klassischen Schuppen Eins-Führung wird präsentiert vom Theater Interaktiwo in Kooperation mit dem Oldtimerzentrum. \nTreffpunkt Schuppen Eins\, Eingang Giebelseite\nDauer rund eine Stunde\nKonsul-Smidt-Straße 20-26\, 28217 Bremen \nEine Anmeldung ist erforderlich. \nKontakt:\nTHEATER INTERAKTIWO\nMail theater-interaktiwo@web.de\nTelefon 0421/70882160\nwww.theater-interaktiwo.de
URL:https://schuppeneins.de/termine/sonderfuehrung-borgward-bertha-benz-und-bremen-9/
LOCATION:Schuppen Eins
ATTACH;FMTTYPE=image/jpeg:https://schuppeneins.de/wp-content/uploads/2023/02/BORGWARD1_600.jpg
ORGANIZER;CN="Theater Interaktiwo":MAILTO:Theater-interaktiwo@web.de
END:VEVENT
END:VCALENDAR