BEGIN:VCALENDAR
VERSION:2.0
PRODID:-//SchuppenEins - ECPv6.15.20//NONSGML v1.0//EN
CALSCALE:GREGORIAN
METHOD:PUBLISH
X-WR-CALNAME:SchuppenEins
X-ORIGINAL-URL:https://schuppeneins.de
X-WR-CALDESC:Veranstaltungen für SchuppenEins
REFRESH-INTERVAL;VALUE=DURATION:PT1H
X-Robots-Tag:noindex
X-PUBLISHED-TTL:PT1H
BEGIN:VTIMEZONE
TZID:Europe/Berlin
BEGIN:DAYLIGHT
TZOFFSETFROM:+0100
TZOFFSETTO:+0200
TZNAME:CEST
DTSTART:20230326T010000
END:DAYLIGHT
BEGIN:STANDARD
TZOFFSETFROM:+0200
TZOFFSETTO:+0100
TZNAME:CET
DTSTART:20231029T010000
END:STANDARD
BEGIN:DAYLIGHT
TZOFFSETFROM:+0100
TZOFFSETTO:+0200
TZNAME:CEST
DTSTART:20240331T010000
END:DAYLIGHT
BEGIN:STANDARD
TZOFFSETFROM:+0200
TZOFFSETTO:+0100
TZNAME:CET
DTSTART:20241027T010000
END:STANDARD
BEGIN:DAYLIGHT
TZOFFSETFROM:+0100
TZOFFSETTO:+0200
TZNAME:CEST
DTSTART:20250330T010000
END:DAYLIGHT
BEGIN:STANDARD
TZOFFSETFROM:+0200
TZOFFSETTO:+0100
TZNAME:CET
DTSTART:20251026T010000
END:STANDARD
END:VTIMEZONE
BEGIN:VEVENT
DTSTART;TZID=Europe/Berlin:20240303T110000
DTEND;TZID=Europe/Berlin:20240303T160000
DTSTAMP:20260422T093436
CREATED:20240211T140556Z
LAST-MODIFIED:20240301T084529Z
UID:10000071-1709463600-1709481600@schuppeneins.de
SUMMARY:FÄLLT AUS: Modellauto- und Modelleisenbahnbörse
DESCRIPTION:Die beliebte Börse für Modellautos\, Modelleisenbahn und Spielzeug des Modellautoclub Weser-Ems e.V. \nDer Eintritt ist wie immer frei.
URL:https://schuppeneins.de/termine/modellauto-und-modelleisenbahnboerse/
LOCATION:Schuppen Eins
ATTACH;FMTTYPE=image/jpeg:https://schuppeneins.de/wp-content/uploads/2022/03/DSCF8166-001.jpg
END:VEVENT
BEGIN:VEVENT
DTSTART;TZID=Europe/Berlin:20240309T110000
DTEND;TZID=Europe/Berlin:20240309T160000
DTSTAMP:20260422T093436
CREATED:20240211T142428Z
LAST-MODIFIED:20240212T133914Z
UID:10000072-1709982000-1710000000@schuppeneins.de
SUMMARY:Klassiker-Job- & Info-Messe
DESCRIPTION:Ausbildung\, Praktikum und Umschulung – die Kontakt- und Infobörse der regionalen Oldtimer-Auto- und Motorradwerkstätten \n\nBerufe und Tätigkeiten kennenlernen\nKontakte und Netzwerke knüpfen\nAzubis stellen sich und ihre Aufgaben vor\nProjekte und historische Technik zum Anfassen\nMöglichkeiten und Perspektiven in der Branche\nAndere Oldtimerfreunde:Innen treffen\n\nDer Eintritt ist frei. \n  \nKontakt: \nAndré Castens\, Schuppen Eins\, info@schuppeneins.de\, Telefon 0421/365191-58 \nMichael Silbermann\, Classic & Custom Bikes\, michael@classicandcustombikes.de \n  \nIhr möchtet Euch und Eure Werkstatt ebenfalls auf der Messe präsentieren? Dann meldet Euch bei uns!
URL:https://schuppeneins.de/termine/klassiker-job-info-messe/
LOCATION:Schuppen Eins
ATTACH;FMTTYPE=image/jpeg:https://schuppeneins.de/wp-content/uploads/2024/02/Flyer-Ausbildungsmesse_Vorderseite.jpg
ORGANIZER;CN="Schuppen Eins":MAILTO:info@schuppeneins.de
END:VEVENT
BEGIN:VEVENT
DTSTART;TZID=Europe/Berlin:20240310T090000
DTEND;TZID=Europe/Berlin:20240310T170000
DTSTAMP:20260422T093436
CREATED:20240211T145836Z
LAST-MODIFIED:20240211T150621Z
UID:10000073-1710061200-1710090000@schuppeneins.de
SUMMARY:Rallye-Beifahrerlehrgang
DESCRIPTION:Theoretische und praktische Teamschulung zur Vorbereitung auf die Teilnahme an Oldtimerausfahrten. Was enthält das Bordbuch? Was sind Chinesenzeichen? Welche Aufgaben erwarten Euch? \nAlle Infos und Anmeldung auf der Homepage des Veranstalters Verein für Motorsport in Niedersachsen e.V. im ADAC: \nwww.verein-fuer-motorsport.de \n 
URL:https://schuppeneins.de/termine/rallye-beifahrerlehrgang/
LOCATION:Schuppen Eins
ORGANIZER;CN="Verein f%C3%BCr Motorsport e.V. im ADAC":MAILTO:info@verein-fuer-motorsport.de
END:VEVENT
END:VCALENDAR