BEGIN:VCALENDAR
VERSION:2.0
PRODID:-//SchuppenEins - ECPv6.15.20//NONSGML v1.0//EN
CALSCALE:GREGORIAN
METHOD:PUBLISH
X-ORIGINAL-URL:https://schuppeneins.de
X-WR-CALDESC:Veranstaltungen für SchuppenEins
REFRESH-INTERVAL;VALUE=DURATION:PT1H
X-Robots-Tag:noindex
X-PUBLISHED-TTL:PT1H
BEGIN:VTIMEZONE
TZID:Europe/Berlin
BEGIN:DAYLIGHT
TZOFFSETFROM:+0100
TZOFFSETTO:+0200
TZNAME:CEST
DTSTART:20230326T010000
END:DAYLIGHT
BEGIN:STANDARD
TZOFFSETFROM:+0200
TZOFFSETTO:+0100
TZNAME:CET
DTSTART:20231029T010000
END:STANDARD
BEGIN:DAYLIGHT
TZOFFSETFROM:+0100
TZOFFSETTO:+0200
TZNAME:CEST
DTSTART:20240331T010000
END:DAYLIGHT
BEGIN:STANDARD
TZOFFSETFROM:+0200
TZOFFSETTO:+0100
TZNAME:CET
DTSTART:20241027T010000
END:STANDARD
BEGIN:DAYLIGHT
TZOFFSETFROM:+0100
TZOFFSETTO:+0200
TZNAME:CEST
DTSTART:20250330T010000
END:DAYLIGHT
BEGIN:STANDARD
TZOFFSETFROM:+0200
TZOFFSETTO:+0100
TZNAME:CET
DTSTART:20251026T010000
END:STANDARD
END:VTIMEZONE
BEGIN:VEVENT
DTSTART;TZID=Europe/Berlin:20240601T120000
DTEND;TZID=Europe/Berlin:20240601T190000
DTSTAMP:20260422T050320
CREATED:20240523T072602Z
LAST-MODIFIED:20240523T072602Z
UID:10000086-1717243200-1717268400@schuppeneins.de
SUMMARY:Partnerevent MSCO Oldtimerrallye Graf-Anton-Günther und Oldtimertreffen
DESCRIPTION:Unser Partner Motor-Sport-Club Oldenburg e.V.  veranstaltet auf dem Gelände der Landtage Nord in Wüsting in Oldenburgs Osten ein Old- und Youngtimertreffen. Während die Teilnehmenden der MSCO Oldtimerrallye noch auf der Strecke sind\, startet das Treffen. Zum Zieleinlauf ab 17:00 Uhr seid ihr dann alle dabei und wer Lust hat\, nimmt an der Siegerehrung in der riesigen Halle vor Ort teil. Für eine entsprechende Verpflegung wird gesorgt. Platz ist mehr als reichlich vorhanden.
URL:https://schuppeneins.de/termine/partnerevent-msco-oldtimerrallye-graf-anton-guenther-und-oldtimertreffen/
LOCATION:Oldenburg
ATTACH;FMTTYPE=image/jpeg:https://schuppeneins.de/wp-content/uploads/2022/03/IMG_6415.jpeg
ORGANIZER;CN="Motor-Sport-Club Oldenburg e.V. im ADAC":MAILTO:info@msc-oldenburg.de
END:VEVENT
BEGIN:VEVENT
DTSTART;TZID=Europe/Berlin:20240602T100000
DTEND;TZID=Europe/Berlin:20240602T160000
DTSTAMP:20260422T050320
CREATED:20240211T162327Z
LAST-MODIFIED:20240211T162327Z
UID:10000078-1717322400-1717344000@schuppeneins.de
SUMMARY:Classic-Meeting Juni
DESCRIPTION:Offenes monatliches Treffen für alle Oldtimer\, Youngtimer\, Neoklassiker und Sportwagen mit wechselnden Themen und Sonderschauen
URL:https://schuppeneins.de/termine/classic-meeting-juni/
LOCATION:Schuppen Eins
ATTACH;FMTTYPE=image/jpeg:https://schuppeneins.de/wp-content/uploads/2018/05/P1010636.jpg
ORGANIZER;CN="Schuppen Eins":MAILTO:info@schuppeneins.de
END:VEVENT
BEGIN:VEVENT
DTSTART;TZID=Europe/Berlin:20240609T110000
DTEND;TZID=Europe/Berlin:20240609T160000
DTSTAMP:20260422T050320
CREATED:20240211T162631Z
LAST-MODIFIED:20240211T162631Z
UID:10000079-1717930800-1717948800@schuppeneins.de
SUMMARY:Modellauto- und Modelleisenbahnbörse
DESCRIPTION:Die beliebte Börse für Modellautos\, Modelleisenbahn und Spielzeug des Modellautoclub Weser-Ems e.V. \nDer Eintritt ist wie immer frei.
URL:https://schuppeneins.de/termine/modellauto-und-modelleisenbahnboerse-2/
LOCATION:Schuppen Eins
ATTACH;FMTTYPE=image/jpeg:https://schuppeneins.de/wp-content/uploads/2022/03/DSCF8167_m-1.jpg
END:VEVENT
BEGIN:VEVENT
DTSTART;TZID=Europe/Berlin:20240615T140000
DTEND;TZID=Europe/Berlin:20240615T170000
DTSTAMP:20260422T050320
CREATED:20240523T074810Z
LAST-MODIFIED:20240523T074810Z
UID:10000087-1718460000-1718470800@schuppeneins.de
SUMMARY:Klassik trifft Zukunft: Wasserstoffauto-Treffen
DESCRIPTION:„Klassik trifft Zukunft“ – unter diesem Motto findet die erste Bremer Veranstaltung der „WOCHE DES WASSERSTOFFS“ am Schuppen Eins statt. Veranstaltet wird der Tag von den H2-Freunden mit freundlicher Unterstützung des Schuppen Eins.\n \nAb 13:00 Uhr treffen sich Teilnehmer:innen\, die sich für die H2-Rundfahrt interessieren\, am Pier 2 (Gröpelinger Fährweg 6) und fahren von dort die folgende Route durch Bremen und gemeinsam zum Schuppen Eins: Hafenrandstraße\, Hansestraße\, Rembertiring\, Bismarckstraße\, Georg-Bitter Straße\, Osterdeich\, Faulenstraße und zuletzt über die Eduard-Schopf-Allee.\n \nUnter dem Motto „Klassik meets Zukunft“ sind Wasserstoffbegeisterte und Fahrerinnen und Fahrer von Brennstoffzellenfahrzeugen aus der ganzen Republik eingeladen\, sich in Bremen zu treffen\, um sich über Wasserstoff als Antrieb der Zukunft auszutauschen. Vor Ort werden auf der Bühne vor dem Schuppen Eins FCEV (Brennstoffzellenfahrzeuge) ausgestellt\, zur Besichtigung und zur Erkundung der Zukunftstechnologie Wasserstoff. Ein Pavillon mit Infotafeln liefert Wissenswertes rund um H2 und Automobilität; Praktiker:innen berichten von Ihren Erfahrungen und ein Imbisswagen sorgt für das für das leibliche Wohl. \nOrganisation und Kontakt: Jörg Rinke\, jlr65@web.de \n 
URL:https://schuppeneins.de/termine/klassik-trifft-zukunft-wasserstoffauto-treffen/
LOCATION:Schuppen Eins
ORGANIZER;CN="Schuppen Eins":MAILTO:info@schuppeneins.de
END:VEVENT
BEGIN:VEVENT
DTSTART;TZID=Europe/Berlin:20240623T090000
DTEND;TZID=Europe/Berlin:20240623T180000
DTSTAMP:20260422T050320
CREATED:20240523T075749Z
LAST-MODIFIED:20240530T162015Z
UID:10000088-1719133200-1719165600@schuppeneins.de
SUMMARY:Partnerevent British Vintage Car Meeting Rastede
DESCRIPTION:Die Liebhaber historischer englischer Fahrzeuge sollten sich den Termin dick im Kalender anstreichen. Denn an diesem Tag findet im Residenzort Rastede im Ammerland das Treffen mit Old- und Youngtimern aus englischer Produktion statt. \nOrganisator des Engländertreffens Henning Spille fährt selber englische Fahrzeuge und möchte den Fans solcher Old- und Youngtimer auch hier im Norden die Möglichkeit zum Austausch bieten. In der schönen Ammerländer Parklandschaft – fast vergleichbar mit „Good old England“ –können Sie einen unbeschwerten Tag mit Gleichgesinnten verbringen. \nSehen und gesehen werden – und dabei immer das Hobby im Blick\, das ist am Veranstaltungsort\, der Kögel-Willms-Platz im Rastede\, möglich. Hier stimmt das Ambiente und das großzügige Areal bietet genügend Platz\, um alle Fahrzeuge vorzustellen. \nBringen Sie ihre Picknickdecke und den Picknickkorb mit\, und genießen Sie die Zeit mit anderen English-Car-Fans. Erfreuen Sie sich am englischen Lebensgefühl – beim Picknick und vielleicht bei einer stilvollen English Teatime. \nAlle Infos unter https://www.englaendertreffen-rastede.de/
URL:https://schuppeneins.de/termine/partnerevent-british-vintage-car-meeting-rastede/
LOCATION:Rastede\, Kögel-Willms-Platz\, Rastede
ATTACH;FMTTYPE=image/jpeg:https://schuppeneins.de/wp-content/uploads/2024/05/20230625_105410_m.jpg
END:VEVENT
BEGIN:VEVENT
DTSTART;TZID=Europe/Berlin:20240629T100000
DTEND;TZID=Europe/Berlin:20240629T170000
DTSTAMP:20260422T050320
CREATED:20240523T082725Z
LAST-MODIFIED:20240523T082725Z
UID:10000090-1719655200-1719680400@schuppeneins.de
SUMMARY:Partnerevent Audi-Nordtreffen 4.0
DESCRIPTION:Zum vierten Mal findet im niedersächsischen Scheeßel das Audi-Nordtreffen des neu gegründeten Verein Classic Audienz statt. Erwartet werden über 200 Alt-Audi buis Baujahr 2004. Es erwarten Euch unter anderem eine Hüpfburg\, ein mobiler Trockeneisreiniger\, Gerichte vom Grill sowie Kaffee und Kuchen. \nOrganisation und Kontakt:\nAndreas Götze\nClassic-Audienz\nodin-996@web.de\nTelefon 0152/53450683
URL:https://schuppeneins.de/termine/partnerevent-audi-nordtreffen-4-0/
LOCATION:Westerescher Hof\, 27383 Scheessel
END:VEVENT
BEGIN:VEVENT
DTSTART;TZID=Europe/Berlin:20240630T110000
DTEND;TZID=Europe/Berlin:20240630T170000
DTSTAMP:20260422T050320
CREATED:20240523T080747Z
LAST-MODIFIED:20240523T081046Z
UID:10000089-1719745200-1719766800@schuppeneins.de
SUMMARY:Partnerevent Classic Car Charity Bad Zwischenahn
DESCRIPTION:Genießen Sie eine Mitfahrt durch das schöne Bad Zwischenahn in einem historischen Fahrzeug Ihrer Wahl und tun Sie Gutes dabei! Der Eintritt ist frei. Mehr als 30 Oldtimer aus den Baujahren 1925 – 1993 stehen für Sie bereit\, darunter mächtige Bentleys\, stylische Corvettes und flinke Triumphs. \nKindheitserinnerungen werden wach in einer Fahrt im VW Käfer oder der Citroen 2CV Ente\, Jugendträume wie der Opel Manta und Ford Capri sind zu bewundern und zu erleben. Oder vielleicht einmal im Unimog eine Runde drehen? Das alles ist möglich gegen eine kleine Spende von 10 €\, und Ihr Spendengeld geht ohne Abzüge zu 100% an die wohltätigen Organisationen TrostReich und Flugkraft. \nGemeinsam mit Ihnen Gutes tun ist das Motto unserer Oldtimerfahrer\, die ihre Fahrzeuge für Sie auf Hochglanz polieren\, fahrbereit und sicher machen\, die Benzinkosten übernehmen und mit Ihnen eine kleine Ausfahrt in Bad Zwischenahn unternehmen. \nDie Classic Car Charity ist eine Veranstaltung des Motor-Sport-Clubs Oldenburg\, ein Ortsclub des ADAC Weser-Ems e.V. Der MSCO als gemeinnützig anerkannter Verein mit über 400 Mitgliedern fördert den Motorsport\, die Verkehrssicherheit und setzt sich seit vielen Jahren mit vielen Aktionen für Kinder in Not ein. Unterstützung erfahren wir in herausragender Weise durch die Gemeinde Bad Zwischenahn und den Touristik-Service am Meer\, ein Arbeiten Hand-in-Hand um diese Veranstaltung zum Erfolg zu führen. Darüber hinaus haben wir eine Vielzahl von regionalen Firmen als Unterstützer der ersten Stunde dabei\, die uns helfen\, die anfallenden Kosten zu stemmen oder mit Rat und Tat zu helfen. \nAlle Aktiven und Helfer sind ehrenamtlich tätig\, es werden auch keine Aufwandsentschädigungen gezahlt. Sobald die anfallenden Kosten durch die Unterstützer gedeckt sind gehen eventuell überstehende Gelder zu 100% an TrostReich e.V. und Flugkraft gGmbH. \nAuch der Schuppen Eins ist mit einem Goliath Hansa 1100 dabei! \nRathausplatz Am Brink\n26160 Bad Zwischenahn
URL:https://schuppeneins.de/termine/partnerevent-classic-car-charity-bad-zwischenahn/
LOCATION:Bad Zwischenahn
ORGANIZER;CN="Motor-Sport-Club Oldenburg e.V. im ADAC":MAILTO:info@msc-oldenburg.de
END:VEVENT
END:VCALENDAR