BEGIN:VCALENDAR
VERSION:2.0
PRODID:-//SchuppenEins - ECPv6.15.20//NONSGML v1.0//EN
CALSCALE:GREGORIAN
METHOD:PUBLISH
X-ORIGINAL-URL:https://schuppeneins.de
X-WR-CALDESC:Veranstaltungen für SchuppenEins
REFRESH-INTERVAL;VALUE=DURATION:PT1H
X-Robots-Tag:noindex
X-PUBLISHED-TTL:PT1H
BEGIN:VTIMEZONE
TZID:Europe/Berlin
BEGIN:DAYLIGHT
TZOFFSETFROM:+0100
TZOFFSETTO:+0200
TZNAME:CEST
DTSTART:20240331T010000
END:DAYLIGHT
BEGIN:STANDARD
TZOFFSETFROM:+0200
TZOFFSETTO:+0100
TZNAME:CET
DTSTART:20241027T010000
END:STANDARD
BEGIN:DAYLIGHT
TZOFFSETFROM:+0100
TZOFFSETTO:+0200
TZNAME:CEST
DTSTART:20250330T010000
END:DAYLIGHT
BEGIN:STANDARD
TZOFFSETFROM:+0200
TZOFFSETTO:+0100
TZNAME:CET
DTSTART:20251026T010000
END:STANDARD
BEGIN:DAYLIGHT
TZOFFSETFROM:+0100
TZOFFSETTO:+0200
TZNAME:CEST
DTSTART:20260329T010000
END:DAYLIGHT
BEGIN:STANDARD
TZOFFSETFROM:+0200
TZOFFSETTO:+0100
TZNAME:CET
DTSTART:20261025T010000
END:STANDARD
END:VTIMEZONE
BEGIN:VEVENT
DTSTART;TZID=Europe/Berlin:20250315T180000
DTEND;TZID=Europe/Berlin:20250315T210000
DTSTAMP:20260421T134534
CREATED:20250312T165234Z
LAST-MODIFIED:20250312T165252Z
UID:10000106-1742061600-1742072400@schuppeneins.de
SUMMARY:Georgien – Land der Kontraste
DESCRIPTION:Live-Mulitmediavortrag einer Motorradreise in den Kaukasus \nAn der Grenze zwischen Europa und Asien gelegen\, fasziniert Georgien mit einer unglaublichen Vielfalt auf engstem Raum – von den Stränden am Schwarzen Meer über die hohen Gipfel des Großen und Kleinen Kaukasus bis zu den einsamen Steppen im Osten\, von entlegenen Dörfern bis zur pulsierenden Hauptstadt Tbilisi\, von uralten Festungen und Klöstern bis zu modernen Bauwerken. Im Herbst 2024 war der Journalist Wolf Haenlein 10.700 Kilometer durch neun Länder allein dort unterwegs und nimmt Euch mit auf eine spannende Reise. \nWerkstatt Doppelpack am Boulevard Schuppen Eins \nEintritt 22\,00 Euro \nPräsentiert vom Motorradstammtisch R.A.T. Pack Syke
URL:https://schuppeneins.de/termine/georgien-land-der-kontraste/
LOCATION:Schuppen Eins Atelier Doppelpack
ATTACH;FMTTYPE=image/jpeg:https://schuppeneins.de/wp-content/uploads/2025/03/bringticket-schuppeneins.jpeg
ORGANIZER;CN="R.A.T. Pack Motorrad-Stammtisch Syke":MAILTO:event@ratpack-syke.de
END:VEVENT
BEGIN:VEVENT
DTSTART;TZID=Europe/Berlin:20250323T100000
DTEND;TZID=Europe/Berlin:20250323T150000
DTSTAMP:20260421T134534
CREATED:20250312T165525Z
LAST-MODIFIED:20250312T165613Z
UID:10000107-1742724000-1742742000@schuppeneins.de
SUMMARY:Pop Up Market
DESCRIPTION:Fashion\, Living\, Jewellery\, Kids\, Accessoires\, Food & Café \nStöbert\, shoppt und genießt die inspirierende Atmosphäre des Smukkes Pop Up Market. Ob Ihr auf der Suche nach einem neuen Outfit seid\, Euer Zuhause verschönern möchtet oder einfach einen entspannten Tag mit Freunden verbringen wollt – der Markt bietet Euch die perfekte Gelegenheit\, neue Trends zu entdecken und Eure Lieblingsmarken zu erleben. \n\nTrendige Styles und exklusive Marken\nStilvolle Möbel\, Dekoration und Accessoires für Dein Zuhause\nEinzigartige Geschenkideen\nSweets\, Snacks\, Kaffeespezialitäten\, Matcha\, Tee und Drinks\n\nFoyer Schuppen Eins \nEintritt frei
URL:https://schuppeneins.de/termine/pop-up-market/
LOCATION:Schuppen Eins
ATTACH;FMTTYPE=image/jpeg:https://schuppeneins.de/wp-content/uploads/2025/03/POp-Up-Market-Smukkes_250323.jpg
END:VEVENT
BEGIN:VEVENT
DTSTART;TZID=Europe/Berlin:20250330T110000
DTEND;TZID=Europe/Berlin:20250330T160000
DTSTAMP:20260421T134534
CREATED:20250219T142817Z
LAST-MODIFIED:20250219T144318Z
UID:10000094-1743332400-1743350400@schuppeneins.de
SUMMARY:Modellauto- und Modelleisenbahnbörse
DESCRIPTION:Die beliebte Börse mit freiem Eintritt für Modellautos\, Modelleisenbahn und Spielzeug des Modellautoclub Weser-Ems e.V..
URL:https://schuppeneins.de/termine/modellauto-und-modelleisenbahnboerse-4/
LOCATION:Schuppen Eins
ATTACH;FMTTYPE=image/jpeg:https://schuppeneins.de/wp-content/uploads/2025/02/Boerse-Juni-23_1_m.jpg
END:VEVENT
END:VCALENDAR